BEGIN:VCALENDAR
VERSION:2.0
PRODID:-//Condeixa Aqua Clube - ECPv6.15.13//NONSGML v1.0//EN
CALSCALE:GREGORIAN
METHOD:PUBLISH
X-WR-CALNAME:Condeixa Aqua Clube
X-ORIGINAL-URL:https://www.aquaclube.net
X-WR-CALDESC:Eventos para Condeixa Aqua Clube
REFRESH-INTERVAL;VALUE=DURATION:PT1H
X-Robots-Tag:noindex
X-PUBLISHED-TTL:PT1H
BEGIN:VTIMEZONE
TZID:Europe/Lisbon
BEGIN:DAYLIGHT
TZOFFSETFROM:+0000
TZOFFSETTO:+0100
TZNAME:WEST
DTSTART:20240331T010000
END:DAYLIGHT
BEGIN:STANDARD
TZOFFSETFROM:+0100
TZOFFSETTO:+0000
TZNAME:WET
DTSTART:20241027T010000
END:STANDARD
BEGIN:DAYLIGHT
TZOFFSETFROM:+0000
TZOFFSETTO:+0100
TZNAME:WEST
DTSTART:20250330T010000
END:DAYLIGHT
BEGIN:STANDARD
TZOFFSETFROM:+0100
TZOFFSETTO:+0000
TZNAME:WET
DTSTART:20251026T010000
END:STANDARD
BEGIN:DAYLIGHT
TZOFFSETFROM:+0000
TZOFFSETTO:+0100
TZNAME:WEST
DTSTART:20260329T010000
END:DAYLIGHT
BEGIN:STANDARD
TZOFFSETFROM:+0100
TZOFFSETTO:+0000
TZNAME:WET
DTSTART:20261025T010000
END:STANDARD
END:VTIMEZONE
BEGIN:VEVENT
DTSTART;TZID=Europe/Lisbon:20250412T080000
DTEND;TZID=Europe/Lisbon:20250412T190000
DTSTAMP:20260423T010930
CREATED:20250330T224800Z
LAST-MODIFIED:20250409T223124Z
UID:3697-1744444800-1744484400@www.aquaclube.net
SUMMARY:Meeting Internacional de Felgueiras
DESCRIPTION:CONVOCATÓRIA\nRESULTADOS EM DIRETO
URL:https://www.aquaclube.net/event/meeting-internacional-de-felgueiras/
LOCATION:Felgueiras
END:VEVENT
BEGIN:VEVENT
DTSTART;TZID=Europe/Lisbon:20250412T080000
DTEND;TZID=Europe/Lisbon:20250412T190000
DTSTAMP:20260423T010930
CREATED:20250401T220309Z
LAST-MODIFIED:20250401T222014Z
UID:3702-1744444800-1744484400@www.aquaclube.net
SUMMARY:V Torneio de Natação da Guarda - Cidade dos 5 F's (seleção regional)
DESCRIPTION:CONVOCATÓRIA\nResultados em direto
URL:https://www.aquaclube.net/event/v-torneio-de-natacao-da-guarda-cidade-dos-5-fs-selecao-regional/
LOCATION:Guarda
END:VEVENT
END:VCALENDAR