BEGIN:VCALENDAR
VERSION:2.0
PRODID:-//Condeixa Aqua Clube - ECPv6.15.13//NONSGML v1.0//EN
CALSCALE:GREGORIAN
METHOD:PUBLISH
X-ORIGINAL-URL:https://www.aquaclube.net
X-WR-CALDESC:Eventos para Condeixa Aqua Clube
REFRESH-INTERVAL;VALUE=DURATION:PT1H
X-Robots-Tag:noindex
X-PUBLISHED-TTL:PT1H
BEGIN:VTIMEZONE
TZID:Europe/Lisbon
BEGIN:DAYLIGHT
TZOFFSETFROM:+0000
TZOFFSETTO:+0100
TZNAME:WEST
DTSTART:20240331T010000
END:DAYLIGHT
BEGIN:STANDARD
TZOFFSETFROM:+0100
TZOFFSETTO:+0000
TZNAME:WET
DTSTART:20241027T010000
END:STANDARD
BEGIN:DAYLIGHT
TZOFFSETFROM:+0000
TZOFFSETTO:+0100
TZNAME:WEST
DTSTART:20250330T010000
END:DAYLIGHT
BEGIN:STANDARD
TZOFFSETFROM:+0100
TZOFFSETTO:+0000
TZNAME:WET
DTSTART:20251026T010000
END:STANDARD
BEGIN:DAYLIGHT
TZOFFSETFROM:+0000
TZOFFSETTO:+0100
TZNAME:WEST
DTSTART:20260329T010000
END:DAYLIGHT
BEGIN:STANDARD
TZOFFSETFROM:+0100
TZOFFSETTO:+0000
TZNAME:WET
DTSTART:20261025T010000
END:STANDARD
END:VTIMEZONE
BEGIN:VEVENT
DTSTART;TZID=Europe/Lisbon:20250510T143000
DTEND;TZID=Europe/Lisbon:20250511T143000
DTSTAMP:20260422T003525
CREATED:20250429T152435Z
LAST-MODIFIED:20250507T223312Z
UID:3738-1746887400-1746973800@www.aquaclube.net
SUMMARY:Torneio Regional Fundo Infantis e Juvenis
DESCRIPTION:CONVOCATÓRIA\nResultados em direto
URL:https://www.aquaclube.net/event/torneio-regional-fundo-infantis-e-juvenis/
LOCATION:Cantanhede\, Portugal
ORGANIZER;CN="ANC":MAILTO:geral@ancoimbra.pt
END:VEVENT
END:VCALENDAR