BEGIN:VCALENDAR
VERSION:2.0
PRODID:-//Condeixa Aqua Clube - ECPv6.15.13//NONSGML v1.0//EN
CALSCALE:GREGORIAN
METHOD:PUBLISH
X-WR-CALNAME:Condeixa Aqua Clube
X-ORIGINAL-URL:https://www.aquaclube.net
X-WR-CALDESC:Eventos para Condeixa Aqua Clube
REFRESH-INTERVAL;VALUE=DURATION:PT1H
X-Robots-Tag:noindex
X-PUBLISHED-TTL:PT1H
BEGIN:VTIMEZONE
TZID:Europe/Lisbon
BEGIN:DAYLIGHT
TZOFFSETFROM:+0000
TZOFFSETTO:+0100
TZNAME:WEST
DTSTART:20240331T010000
END:DAYLIGHT
BEGIN:STANDARD
TZOFFSETFROM:+0100
TZOFFSETTO:+0000
TZNAME:WET
DTSTART:20241027T010000
END:STANDARD
BEGIN:DAYLIGHT
TZOFFSETFROM:+0000
TZOFFSETTO:+0100
TZNAME:WEST
DTSTART:20250330T010000
END:DAYLIGHT
BEGIN:STANDARD
TZOFFSETFROM:+0100
TZOFFSETTO:+0000
TZNAME:WET
DTSTART:20251026T010000
END:STANDARD
BEGIN:DAYLIGHT
TZOFFSETFROM:+0000
TZOFFSETTO:+0100
TZNAME:WEST
DTSTART:20260329T010000
END:DAYLIGHT
BEGIN:STANDARD
TZOFFSETFROM:+0100
TZOFFSETTO:+0000
TZNAME:WET
DTSTART:20261025T010000
END:STANDARD
END:VTIMEZONE
BEGIN:VEVENT
DTSTART;TZID=Europe/Lisbon:20250516T080000
DTEND;TZID=Europe/Lisbon:20250518T190000
DTSTAMP:20260421T230831
CREATED:20250429T152650Z
LAST-MODIFIED:20250502T223834Z
UID:3741-1747382400-1747594800@www.aquaclube.net
SUMMARY:Grand Prix Gijon - Seleção regional
DESCRIPTION:CONVOCATÓRIA (ANC)\nRESULTADOS EM DIRETO\n  \nMais informações em: XXXVIII Trofeo Internacional Villa De Gijón – Club Natación Santa Olaya
URL:https://www.aquaclube.net/event/grand-prix-gijon-selecao-regional/
LOCATION:Gijon\, Spain
END:VEVENT
BEGIN:VEVENT
DTSTART;TZID=Europe/Lisbon:20250517T080000
DTEND;TZID=Europe/Lisbon:20250517T190000
DTSTAMP:20260421T230831
CREATED:20250508T224953Z
LAST-MODIFIED:20250513T000146Z
UID:3776-1747468800-1747508400@www.aquaclube.net
SUMMARY:LeiriaSwim
DESCRIPTION:Convocatória\nResultados em direto
URL:https://www.aquaclube.net/event/leiriaswim/
LOCATION:Leiria\, Leiria\, Portugal
END:VEVENT
BEGIN:VEVENT
DTSTART;TZID=Europe/Lisbon:20250517T090000
DTEND;TZID=Europe/Lisbon:20250518T150000
DTSTAMP:20260421T230831
CREATED:20250429T152937Z
LAST-MODIFIED:20250513T000320Z
UID:3744-1747472400-1747580400@www.aquaclube.net
SUMMARY:Campeonato Nacional de AA 5km\, 7.5km e 10km
DESCRIPTION:Convocatória \nResultados em direto
URL:https://www.aquaclube.net/event/campeonato-nacional-de-aa-5km-7-5km-e-10km/
LOCATION:Trízio\, Portugal
END:VEVENT
END:VCALENDAR