BEGIN:VCALENDAR
VERSION:2.0
PRODID:-//Condeixa Aqua Clube - ECPv6.15.13//NONSGML v1.0//EN
CALSCALE:GREGORIAN
METHOD:PUBLISH
X-ORIGINAL-URL:https://www.aquaclube.net
X-WR-CALDESC:Eventos para Condeixa Aqua Clube
REFRESH-INTERVAL;VALUE=DURATION:PT1H
X-Robots-Tag:noindex
X-PUBLISHED-TTL:PT1H
BEGIN:VTIMEZONE
TZID:Europe/Lisbon
BEGIN:DAYLIGHT
TZOFFSETFROM:+0000
TZOFFSETTO:+0100
TZNAME:WEST
DTSTART:20240331T010000
END:DAYLIGHT
BEGIN:STANDARD
TZOFFSETFROM:+0100
TZOFFSETTO:+0000
TZNAME:WET
DTSTART:20241027T010000
END:STANDARD
BEGIN:DAYLIGHT
TZOFFSETFROM:+0000
TZOFFSETTO:+0100
TZNAME:WEST
DTSTART:20250330T010000
END:DAYLIGHT
BEGIN:STANDARD
TZOFFSETFROM:+0100
TZOFFSETTO:+0000
TZNAME:WET
DTSTART:20251026T010000
END:STANDARD
BEGIN:DAYLIGHT
TZOFFSETFROM:+0000
TZOFFSETTO:+0100
TZNAME:WEST
DTSTART:20260329T010000
END:DAYLIGHT
BEGIN:STANDARD
TZOFFSETFROM:+0100
TZOFFSETTO:+0000
TZNAME:WET
DTSTART:20261025T010000
END:STANDARD
END:VTIMEZONE
BEGIN:VEVENT
DTSTART;TZID=Europe/Lisbon:20250607T080000
DTEND;TZID=Europe/Lisbon:20250608T190000
DTSTAMP:20260422T071433
CREATED:20250528T143225Z
LAST-MODIFIED:20250528T143225Z
UID:3805-1749283200-1749409200@www.aquaclube.net
SUMMARY:Meeting do Porto
DESCRIPTION:Convocatória\nResultados em direto
URL:https://www.aquaclube.net/event/meeting-do-porto/
LOCATION:Campanhã – Porto
END:VEVENT
BEGIN:VEVENT
DTSTART;TZID=Europe/Lisbon:20250607T110000
DTEND;TZID=Europe/Lisbon:20250607T153000
DTSTAMP:20260422T071433
CREATED:20250528T150545Z
LAST-MODIFIED:20250528T152238Z
UID:3815-1749294000-1749310200@www.aquaclube.net
SUMMARY:CN AA - Etapa 2 - 21ª Prova de Mar - Baía de Sines
DESCRIPTION:Convocatória\nInformações e Resultados direto
URL:https://www.aquaclube.net/event/cn-aa-etapa-2-21a-prova-de-mar-baia-de-sines/
LOCATION:Sines
END:VEVENT
BEGIN:VEVENT
DTSTART;TZID=Europe/Lisbon:20250607T153000
DTEND;TZID=Europe/Lisbon:20250607T200000
DTSTAMP:20260422T071433
CREATED:20250528T144517Z
LAST-MODIFIED:20250528T154545Z
UID:3809-1749310200-1749326400@www.aquaclube.net
SUMMARY:XII Torneio "Cidade de Cantanhede"
DESCRIPTION:Convocatória\nResultados em direto
URL:https://www.aquaclube.net/event/xii-torneio-cidade-de-cantanhede/
LOCATION:Cantanhede\, Portugal
END:VEVENT
END:VCALENDAR