BEGIN:VCALENDAR
VERSION:2.0
PRODID:-//Condeixa Aqua Clube - ECPv6.15.13//NONSGML v1.0//EN
CALSCALE:GREGORIAN
METHOD:PUBLISH
X-WR-CALNAME:Condeixa Aqua Clube
X-ORIGINAL-URL:https://www.aquaclube.net
X-WR-CALDESC:Eventos para Condeixa Aqua Clube
REFRESH-INTERVAL;VALUE=DURATION:PT1H
X-Robots-Tag:noindex
X-PUBLISHED-TTL:PT1H
BEGIN:VTIMEZONE
TZID:Europe/Lisbon
BEGIN:DAYLIGHT
TZOFFSETFROM:+0000
TZOFFSETTO:+0100
TZNAME:WEST
DTSTART:20240331T010000
END:DAYLIGHT
BEGIN:STANDARD
TZOFFSETFROM:+0100
TZOFFSETTO:+0000
TZNAME:WET
DTSTART:20241027T010000
END:STANDARD
BEGIN:DAYLIGHT
TZOFFSETFROM:+0000
TZOFFSETTO:+0100
TZNAME:WEST
DTSTART:20250330T010000
END:DAYLIGHT
BEGIN:STANDARD
TZOFFSETFROM:+0100
TZOFFSETTO:+0000
TZNAME:WET
DTSTART:20251026T010000
END:STANDARD
BEGIN:DAYLIGHT
TZOFFSETFROM:+0000
TZOFFSETTO:+0100
TZNAME:WEST
DTSTART:20260329T010000
END:DAYLIGHT
BEGIN:STANDARD
TZOFFSETFROM:+0100
TZOFFSETTO:+0000
TZNAME:WET
DTSTART:20261025T010000
END:STANDARD
END:VTIMEZONE
BEGIN:VEVENT
DTSTART;TZID=Europe/Lisbon:20251018T100000
DTEND;TZID=Europe/Lisbon:20251019T140000
DTSTAMP:20260420T205227
CREATED:20251010T152155Z
LAST-MODIFIED:20251014T151128Z
UID:4047-1760781600-1760882400@www.aquaclube.net
SUMMARY:Torneio de abertura
DESCRIPTION:Convocatória Cadetes A\nConvocatória Infantis\nConvocatória Juvenis\, juniores e seniores\nResultados em direto
URL:https://www.aquaclube.net/event/torneio-de-abertura/
LOCATION:Piscinas Municipais Rui Abreu\, R. António Sérgio\, Coimbra\, Coimbra\, 3020-305\, Portugal
END:VEVENT
END:VCALENDAR