BEGIN:VCALENDAR
VERSION:2.0
PRODID:-//Condeixa Aqua Clube - ECPv6.15.13//NONSGML v1.0//EN
CALSCALE:GREGORIAN
METHOD:PUBLISH
X-WR-CALNAME:Condeixa Aqua Clube
X-ORIGINAL-URL:https://www.aquaclube.net
X-WR-CALDESC:Eventos para Condeixa Aqua Clube
REFRESH-INTERVAL;VALUE=DURATION:PT1H
X-Robots-Tag:noindex
X-PUBLISHED-TTL:PT1H
BEGIN:VTIMEZONE
TZID:Europe/Lisbon
BEGIN:DAYLIGHT
TZOFFSETFROM:+0000
TZOFFSETTO:+0100
TZNAME:WEST
DTSTART:20250330T010000
END:DAYLIGHT
BEGIN:STANDARD
TZOFFSETFROM:+0100
TZOFFSETTO:+0000
TZNAME:WET
DTSTART:20251026T010000
END:STANDARD
BEGIN:DAYLIGHT
TZOFFSETFROM:+0000
TZOFFSETTO:+0100
TZNAME:WEST
DTSTART:20260329T010000
END:DAYLIGHT
BEGIN:STANDARD
TZOFFSETFROM:+0100
TZOFFSETTO:+0000
TZNAME:WET
DTSTART:20261025T010000
END:STANDARD
BEGIN:DAYLIGHT
TZOFFSETFROM:+0000
TZOFFSETTO:+0100
TZNAME:WEST
DTSTART:20270328T010000
END:DAYLIGHT
BEGIN:STANDARD
TZOFFSETFROM:+0100
TZOFFSETTO:+0000
TZNAME:WET
DTSTART:20271031T010000
END:STANDARD
END:VTIMEZONE
BEGIN:VEVENT
DTSTART;TZID=Europe/Lisbon:20260301T100000
DTEND;TZID=Europe/Lisbon:20260301T190000
DTSTAMP:20260420T093741
CREATED:20260223T001031Z
LAST-MODIFIED:20260223T001031Z
UID:4371-1772359200-1772391600@www.aquaclube.net
SUMMARY:12º Torneio de Natação Cidade de Pombal INF e ABS
DESCRIPTION:CONVOCATÓRIA\nRESULTADOS EM DIRETO
URL:https://www.aquaclube.net/event/12o-torneio-de-natacao-cidade-de-pombal-inf-e-abs-2/
LOCATION:Pombal
END:VEVENT
END:VCALENDAR