BEGIN:VCALENDAR
VERSION:2.0
PRODID:-//Condeixa Aqua Clube - ECPv6.15.13//NONSGML v1.0//EN
CALSCALE:GREGORIAN
METHOD:PUBLISH
X-ORIGINAL-URL:https://www.aquaclube.net
X-WR-CALDESC:Eventos para Condeixa Aqua Clube
REFRESH-INTERVAL;VALUE=DURATION:PT1H
X-Robots-Tag:noindex
X-PUBLISHED-TTL:PT1H
BEGIN:VTIMEZONE
TZID:Europe/Lisbon
BEGIN:DAYLIGHT
TZOFFSETFROM:+0000
TZOFFSETTO:+0100
TZNAME:WEST
DTSTART:20230326T010000
END:DAYLIGHT
BEGIN:STANDARD
TZOFFSETFROM:+0100
TZOFFSETTO:+0000
TZNAME:WET
DTSTART:20231029T010000
END:STANDARD
BEGIN:DAYLIGHT
TZOFFSETFROM:+0000
TZOFFSETTO:+0100
TZNAME:WEST
DTSTART:20240331T010000
END:DAYLIGHT
BEGIN:STANDARD
TZOFFSETFROM:+0100
TZOFFSETTO:+0000
TZNAME:WET
DTSTART:20241027T010000
END:STANDARD
BEGIN:DAYLIGHT
TZOFFSETFROM:+0000
TZOFFSETTO:+0100
TZNAME:WEST
DTSTART:20250330T010000
END:DAYLIGHT
BEGIN:STANDARD
TZOFFSETFROM:+0100
TZOFFSETTO:+0000
TZNAME:WET
DTSTART:20251026T010000
END:STANDARD
END:VTIMEZONE
BEGIN:VEVENT
DTSTART;TZID=Europe/Lisbon:20241103T090000
DTEND;TZID=Europe/Lisbon:20241103T130000
DTSTAMP:20260422T010635
CREATED:20241017T233155Z
LAST-MODIFIED:20241017T233155Z
UID:3416-1730624400-1730638800@www.aquaclube.net
SUMMARY:Taça meio fundo
DESCRIPTION:
URL:https://www.aquaclube.net/event/taca-meio-fundo/
CATEGORIES:Natação Pura
ORGANIZER;CN="ANC":MAILTO:geral@ancoimbra.pt
END:VEVENT
BEGIN:VEVENT
DTSTART;TZID=Europe/Lisbon:20241110T090000
DTEND;TZID=Europe/Lisbon:20241110T130000
DTSTAMP:20260422T010635
CREATED:20241017T232647Z
LAST-MODIFIED:20241017T232647Z
UID:3409-1731229200-1731243600@www.aquaclube.net
SUMMARY:Toregri I - Jornada 1
DESCRIPTION:
URL:https://www.aquaclube.net/event/toregri-i-jornada-1/
CATEGORIES:Natação Pura
ORGANIZER;CN="ANC":MAILTO:geral@ancoimbra.pt
END:VEVENT
BEGIN:VEVENT
DTSTART;TZID=Europe/Lisbon:20241116T090000
DTEND;TZID=Europe/Lisbon:20241116T180000
DTSTAMP:20260422T010635
CREATED:20241017T232849Z
LAST-MODIFIED:20241017T232849Z
UID:3411-1731747600-1731780000@www.aquaclube.net
SUMMARY:Memorial Luis Lopes Conceição (Infantis)
DESCRIPTION:
URL:https://www.aquaclube.net/event/memorial-luis-lopes-conceicao-infantis/
CATEGORIES:Natação Pura
ORGANIZER;CN="ANC":MAILTO:geral@ancoimbra.pt
END:VEVENT
BEGIN:VEVENT
DTSTART;VALUE=DATE:20241123
DTEND;VALUE=DATE:20241125
DTSTAMP:20260422T010635
CREATED:20241017T233017Z
LAST-MODIFIED:20241017T233017Z
UID:3414-1732320000-1732492799@www.aquaclube.net
SUMMARY:Campeonato Regional Juvenis Juniores e Seniores (piscina curta)
DESCRIPTION:
URL:https://www.aquaclube.net/event/campeonato-regional-juvenis-juniores-e-seniores-piscina-curta/
CATEGORIES:Natação Pura
END:VEVENT
END:VCALENDAR