BEGIN:VCALENDAR
VERSION:2.0
PRODID:-//Condeixa Aqua Clube - ECPv6.15.13//NONSGML v1.0//EN
CALSCALE:GREGORIAN
METHOD:PUBLISH
X-ORIGINAL-URL:https://www.aquaclube.net
X-WR-CALDESC:Eventos para Condeixa Aqua Clube
REFRESH-INTERVAL;VALUE=DURATION:PT1H
X-Robots-Tag:noindex
X-PUBLISHED-TTL:PT1H
BEGIN:VTIMEZONE
TZID:Europe/Lisbon
BEGIN:DAYLIGHT
TZOFFSETFROM:+0000
TZOFFSETTO:+0100
TZNAME:WEST
DTSTART:20240331T010000
END:DAYLIGHT
BEGIN:STANDARD
TZOFFSETFROM:+0100
TZOFFSETTO:+0000
TZNAME:WET
DTSTART:20241027T010000
END:STANDARD
BEGIN:DAYLIGHT
TZOFFSETFROM:+0000
TZOFFSETTO:+0100
TZNAME:WEST
DTSTART:20250330T010000
END:DAYLIGHT
BEGIN:STANDARD
TZOFFSETFROM:+0100
TZOFFSETTO:+0000
TZNAME:WET
DTSTART:20251026T010000
END:STANDARD
BEGIN:DAYLIGHT
TZOFFSETFROM:+0000
TZOFFSETTO:+0100
TZNAME:WEST
DTSTART:20260329T010000
END:DAYLIGHT
BEGIN:STANDARD
TZOFFSETFROM:+0100
TZOFFSETTO:+0000
TZNAME:WET
DTSTART:20261025T010000
END:STANDARD
BEGIN:DAYLIGHT
TZOFFSETFROM:+0000
TZOFFSETTO:+0100
TZNAME:WEST
DTSTART:20270328T010000
END:DAYLIGHT
BEGIN:STANDARD
TZOFFSETFROM:+0100
TZOFFSETTO:+0000
TZNAME:WET
DTSTART:20271031T010000
END:STANDARD
END:VTIMEZONE
BEGIN:VEVENT
DTSTART;TZID=Europe/Lisbon:20251101T080000
DTEND;TZID=Europe/Lisbon:20251102T190000
DTSTAMP:20260420T203900
CREATED:20251024T224315Z
LAST-MODIFIED:20251027T230709Z
UID:4082-1761984000-1762110000@www.aquaclube.net
SUMMARY:Meeting Centro Norte
DESCRIPTION:RESULTADOS EM DIRETO\nCONVOCATÓRIA
URL:https://www.aquaclube.net/event/meeting-centro-norte/
LOCATION:Estarreja
END:VEVENT
BEGIN:VEVENT
DTSTART;TZID=Europe/Lisbon:20251102T080000
DTEND;TZID=Europe/Lisbon:20251102T130000
DTSTAMP:20260420T203900
CREATED:20251024T224019Z
LAST-MODIFIED:20251027T215601Z
UID:4079-1762070400-1762088400@www.aquaclube.net
SUMMARY:TORREGRI 1\, Jornada 1
DESCRIPTION:Resultados em direto\nCONVOCATÓRIA
URL:https://www.aquaclube.net/event/torregri-1-jornada-1/
LOCATION:Montemor
END:VEVENT
BEGIN:VEVENT
DTSTART;TZID=Europe/Lisbon:20251108T080000
DTEND;TZID=Europe/Lisbon:20251108T130000
DTSTAMP:20260420T203900
CREATED:20251024T224707Z
LAST-MODIFIED:20251105T233540Z
UID:4085-1762588800-1762606800@www.aquaclube.net
SUMMARY:IV Torneio Fundação CNL - Cidade de Leiria - Infantis
DESCRIPTION:Resultados em direto\nCONVOCATÓRIA\n 
URL:https://www.aquaclube.net/event/iv-torneio-fundacao-cnl-cidade-de-leiria-infantis/
LOCATION:Leiria\, Leiria\, Portugal
END:VEVENT
BEGIN:VEVENT
DTSTART;TZID=Europe/Lisbon:20251108T150000
DTEND;TZID=Europe/Lisbon:20251109T133000
DTSTAMP:20260420T203900
CREATED:20251024T224939Z
LAST-MODIFIED:20251105T233635Z
UID:4087-1762614000-1762695000@www.aquaclube.net
SUMMARY:II Leiria OPEN Meeting - Absolutos
DESCRIPTION:Resultados em direto\nCONVOCATÓRIA
URL:https://www.aquaclube.net/event/ii-leiria-open-meeting-absolutos/
END:VEVENT
BEGIN:VEVENT
DTSTART;TZID=Europe/Lisbon:20251115T153000
DTEND;TZID=Europe/Lisbon:20251116T133000
DTSTAMP:20260420T203900
CREATED:20251024T225218Z
LAST-MODIFIED:20251111T114740Z
UID:4089-1763220600-1763299800@www.aquaclube.net
SUMMARY:Torneio Regional de Fundo Infantis e Juvenis
DESCRIPTION:Resultados em direto\nConvocatória\n  \n 
URL:https://www.aquaclube.net/event/torneio-regional-de-fundo-infantis-e-juvenis/
LOCATION:Cantanhede\, Portugal
END:VEVENT
BEGIN:VEVENT
DTSTART;TZID=Europe/Lisbon:20251122T090000
DTEND;TZID=Europe/Lisbon:20251123T190000
DTSTAMP:20260420T203900
CREATED:20251024T225400Z
LAST-MODIFIED:20251119T232414Z
UID:4091-1763802000-1763924400@www.aquaclube.net
SUMMARY:Campeonato Regional Juvenis\, Juniores e Seniores PC
DESCRIPTION:RESULTADOS EM DIRETO\nCONVOCATÓRIA \nCONVOCATÓRIA – INFANTIS
URL:https://www.aquaclube.net/event/campeonato-regional-juvenis-juniores-e-seniores-pc/
LOCATION:Cantanhede\, Portugal
END:VEVENT
BEGIN:VEVENT
DTSTART;TZID=Europe/Lisbon:20251130T090000
DTEND;TZID=Europe/Lisbon:20251201T193000
DTSTAMP:20260420T203900
CREATED:20251024T225627Z
LAST-MODIFIED:20251125T222110Z
UID:4093-1764493200-1764617400@www.aquaclube.net
SUMMARY:Campeonato Nacional Clubes 2ª Divisão - masculinos
DESCRIPTION:RESULTADOS EM DIRETO\nCONVOCATÓRIA
URL:https://www.aquaclube.net/event/campeonato-nacional-clubes-2a-divisao/
LOCATION:Tomar
END:VEVENT
BEGIN:VEVENT
DTSTART;TZID=Europe/Lisbon:20251206T080000
DTEND;TZID=Europe/Lisbon:20251208T190000
DTSTAMP:20260420T203900
CREATED:20251125T224054Z
LAST-MODIFIED:20251129T002157Z
UID:4193-1765008000-1765220400@www.aquaclube.net
SUMMARY:Torneio Zonal de Juvenis - Zona Norte
DESCRIPTION:RESULTADOS EM DIRETO\nCONVOCATÓRIA
URL:https://www.aquaclube.net/event/torneio-zonal-de-juvenis-zona-norte/
LOCATION:Estarreja
END:VEVENT
BEGIN:VEVENT
DTSTART;TZID=Europe/Lisbon:20251207T093000
DTEND;TZID=Europe/Lisbon:20251207T130000
DTSTAMP:20260420T203900
CREATED:20251125T224304Z
LAST-MODIFIED:20251128T235630Z
UID:4195-1765099800-1765112400@www.aquaclube.net
SUMMARY:TORREGRI 1\, 2º Jornada
DESCRIPTION:Resultados em direto\nCONVOCATÓRIA
URL:https://www.aquaclube.net/event/torregri-1-2o-jornada/
LOCATION:Penacova
END:VEVENT
BEGIN:VEVENT
DTSTART;TZID=Europe/Lisbon:20251213T080000
DTEND;TZID=Europe/Lisbon:20251216T190000
DTSTAMP:20260420T203900
CREATED:20251125T224628Z
LAST-MODIFIED:20251208T234842Z
UID:4198-1765612800-1765911600@www.aquaclube.net
SUMMARY:Campeonato Nacional Juniores e Seniores - PC
DESCRIPTION:RESULTADOS EM DIRETO\nCONVOCATÓRIA
URL:https://www.aquaclube.net/event/campeonato-nacional-de-juniores-e-de-seniores-pc/
LOCATION:Leiria\, Leiria\, Portugal
END:VEVENT
BEGIN:VEVENT
DTSTART;TZID=Europe/Lisbon:20251213T090000
DTEND;TZID=Europe/Lisbon:20251213T183000
DTSTAMP:20260420T203900
CREATED:20251125T225037Z
LAST-MODIFIED:20251209T161212Z
UID:4205-1765616400-1765650600@www.aquaclube.net
SUMMARY:XVI Memorial Luis Lopes da Conceição - Infantis
DESCRIPTION:RESULTADOS EM DIRETO\nCONVOCATÓRIA
URL:https://www.aquaclube.net/event/xvi-memorial-luis-lopes-da-conceicao-infantis/
LOCATION:Piscinas Luís Lopes Conceição\, Portugal
END:VEVENT
BEGIN:VEVENT
DTSTART;TZID=Europe/Lisbon:20251221T080000
DTEND;TZID=Europe/Lisbon:20251222T190000
DTSTAMP:20260420T203900
CREATED:20251125T224753Z
LAST-MODIFIED:20251216T234258Z
UID:4200-1766304000-1766430000@www.aquaclube.net
SUMMARY:Campeonato Nacional de Clubes 1.ª Divisão - Femininos
DESCRIPTION:RESULTADOS EM DIRETO\nConvocatória\n 
URL:https://www.aquaclube.net/event/campeonato-nacionais-de-clubes-1-a-divisao-femininos/
LOCATION:Albufeira
END:VEVENT
BEGIN:VEVENT
DTSTART;TZID=Europe/Lisbon:20260118T093000
DTEND;TZID=Europe/Lisbon:20260118T140000
DTSTAMP:20260420T203900
CREATED:20260113T155430Z
LAST-MODIFIED:20260113T155430Z
UID:4303-1768728600-1768744800@www.aquaclube.net
SUMMARY:Taça Velocidade
DESCRIPTION:Convocatória\nResultados em direto
URL:https://www.aquaclube.net/event/taca-velocidade/
LOCATION:COPC
END:VEVENT
BEGIN:VEVENT
DTSTART;TZID=Europe/Lisbon:20260124T143000
DTEND;TZID=Europe/Lisbon:20260125T130000
DTSTAMP:20260420T203900
CREATED:20260122T131513Z
LAST-MODIFIED:20260122T141005Z
UID:4311-1769265000-1769346000@www.aquaclube.net
SUMMARY:Torneio Turbo de formação - 2
DESCRIPTION:CONVOCATÓRIA\nRESULTADOS EM DIRETO
URL:https://www.aquaclube.net/event/torneio-turbo-de-formacao-2/
END:VEVENT
BEGIN:VEVENT
DTSTART;TZID=Europe/Lisbon:20260201T080000
DTEND;TZID=Europe/Lisbon:20260201T140000
DTSTAMP:20260420T203900
CREATED:20260122T131649Z
LAST-MODIFIED:20260126T231924Z
UID:4313-1769932800-1769954400@www.aquaclube.net
SUMMARY:TORREGRI 2\, Jornada 1
DESCRIPTION:CONVOCATÓRIA\nResultados em direto
URL:https://www.aquaclube.net/event/torregri-2-jornada-1/
LOCATION:Condeixa
END:VEVENT
BEGIN:VEVENT
DTSTART;TZID=Europe/Lisbon:20260207T080000
DTEND;TZID=Europe/Lisbon:20260208T190000
DTSTAMP:20260420T203900
CREATED:20260122T131834Z
LAST-MODIFIED:20260203T220620Z
UID:4316-1770451200-1770577200@www.aquaclube.net
SUMMARY:Campeonato Interdistrital de Infantis
DESCRIPTION:CONVOCATÓRIA\nRESULTADOS EM DIRETO
URL:https://www.aquaclube.net/event/campeonato-interdistrital-de-infantis/
LOCATION:Mealhada
END:VEVENT
BEGIN:VEVENT
DTSTART;TZID=Europe/Lisbon:20260207T083000
DTEND;TZID=Europe/Lisbon:20260208T190000
DTSTAMP:20260420T203900
CREATED:20260122T132126Z
LAST-MODIFIED:20260122T132126Z
UID:4319-1770453000-1770577200@www.aquaclube.net
SUMMARY:Póvoa de Varzim International Meeting
DESCRIPTION:Convocatória\nRESULTADOS EM DIRETO
URL:https://www.aquaclube.net/event/povoa-de-varzim-international-meeting/
LOCATION:Póvoa do Varzim
END:VEVENT
BEGIN:VEVENT
DTSTART;TZID=Europe/Lisbon:20260214T080000
DTEND;TZID=Europe/Lisbon:20260214T150000
DTSTAMP:20260420T203900
CREATED:20260122T132309Z
LAST-MODIFIED:20260209T233534Z
UID:4322-1771056000-1771081200@www.aquaclube.net
SUMMARY:Campeonato Nacional de Longa Distância
DESCRIPTION:CONVOCATÓRIA\nRESULTADOS EM DIRETO
URL:https://www.aquaclube.net/event/campeonato-nacional-de-longa-distancia/
LOCATION:COPC
END:VEVENT
BEGIN:VEVENT
DTSTART;TZID=Europe/Lisbon:20260214T080000
DTEND;TZID=Europe/Lisbon:20260215T190000
DTSTAMP:20260420T203900
CREATED:20260122T132428Z
LAST-MODIFIED:20260122T132428Z
UID:4324-1771056000-1771182000@www.aquaclube.net
SUMMARY:Arena Lisbon International Meeting
DESCRIPTION:Convocatória\nResultados em direto
URL:https://www.aquaclube.net/event/arena-lisbon-international-meeting/
LOCATION:Jamor – Lisboa
END:VEVENT
BEGIN:VEVENT
DTSTART;TZID=Europe/Lisbon:20260220T150000
DTEND;TZID=Europe/Lisbon:20260222T190000
DTSTAMP:20260420T203900
CREATED:20260122T132555Z
LAST-MODIFIED:20260218T144619Z
UID:4326-1771599600-1771786800@www.aquaclube.net
SUMMARY:Zonal Norte - infantis
DESCRIPTION:CONVOCATÓRIA\nRESULTADOS EM DIRETO
URL:https://www.aquaclube.net/event/zonal-norte-infantis/
LOCATION:Penafiel
END:VEVENT
BEGIN:VEVENT
DTSTART;TZID=Europe/Lisbon:20260222T090000
DTEND;TZID=Europe/Lisbon:20260222T190000
DTSTAMP:20260420T203900
CREATED:20260218T145722Z
LAST-MODIFIED:20260219T235233Z
UID:4363-1771750800-1771786800@www.aquaclube.net
SUMMARY:Torneio Especialista
DESCRIPTION:CONVOCATÓRIA\nRESULTADOS EM DIRETO
URL:https://www.aquaclube.net/event/torneio-especialista/
LOCATION:COPC
END:VEVENT
BEGIN:VEVENT
DTSTART;TZID=Europe/Lisbon:20260301T100000
DTEND;TZID=Europe/Lisbon:20260301T190000
DTSTAMP:20260420T203900
CREATED:20260223T001031Z
LAST-MODIFIED:20260223T001031Z
UID:4371-1772359200-1772391600@www.aquaclube.net
SUMMARY:12º Torneio de Natação Cidade de Pombal INF e ABS
DESCRIPTION:CONVOCATÓRIA\nRESULTADOS EM DIRETO
URL:https://www.aquaclube.net/event/12o-torneio-de-natacao-cidade-de-pombal-inf-e-abs-2/
LOCATION:Pombal
END:VEVENT
BEGIN:VEVENT
DTSTART;TZID=Europe/Lisbon:20260306T100000
DTEND;TZID=Europe/Lisbon:20260308T190000
DTSTAMP:20260420T203900
CREATED:20260302T232019Z
LAST-MODIFIED:20260302T232019Z
UID:4385-1772791200-1772996400@www.aquaclube.net
SUMMARY:campeonato interdistrital juvenis\, juniores e seniores
DESCRIPTION:CONVOCATÓRIA\nRESULTADOS EM DIRETO
URL:https://www.aquaclube.net/event/campeonato-interdistrital-juvenis-juniores-e-seniores/
LOCATION:COPC
END:VEVENT
BEGIN:VEVENT
DTSTART;TZID=Europe/Lisbon:20260315T090000
DTEND;TZID=Europe/Lisbon:20260315T140000
DTSTAMP:20260420T203900
CREATED:20260302T232809Z
LAST-MODIFIED:20260309T234706Z
UID:4388-1773565200-1773583200@www.aquaclube.net
SUMMARY:Toregri 2\, jornada 2
DESCRIPTION:CONVOCATÓRIA\nResultados em direto
URL:https://www.aquaclube.net/event/toregri-2-jornada-2-2/
LOCATION:Cantanhede\, Portugal
END:VEVENT
BEGIN:VEVENT
DTSTART;TZID=Europe/Lisbon:20260320T090000
DTEND;TZID=Europe/Lisbon:20260322T193000
DTSTAMP:20260420T203900
CREATED:20260302T232955Z
LAST-MODIFIED:20260315T234441Z
UID:4390-1773997200-1774207800@www.aquaclube.net
SUMMARY:Campeonato Nacional juvenis
DESCRIPTION:CONVOCATÓRIA\nRESULTADOS EM DIRETO
URL:https://www.aquaclube.net/event/campeonato-nacional-juvenis/
LOCATION:COPC
END:VEVENT
BEGIN:VEVENT
DTSTART;TZID=Europe/Lisbon:20260328T090000
DTEND;TZID=Europe/Lisbon:20260331T190000
DTSTAMP:20260420T203900
CREATED:20260302T233252Z
LAST-MODIFIED:20260317T225351Z
UID:4392-1774688400-1774983600@www.aquaclube.net
SUMMARY:Campeonato Nacional Juniores\, SUB21\, Absolutos - open Portugal
DESCRIPTION:CONVOCATÓRIA\nResultados em direto
URL:https://www.aquaclube.net/event/campeonato-nacional-juniores-e-absolutos-open-portugal/
LOCATION:COPC
END:VEVENT
BEGIN:VEVENT
DTSTART;TZID=Europe/Lisbon:20260418T153000
DTEND;TZID=Europe/Lisbon:20260418T200000
DTSTAMP:20260420T203900
CREATED:20260410T215412Z
LAST-MODIFIED:20260410T215520Z
UID:4467-1776526200-1776542400@www.aquaclube.net
SUMMARY:XL Torneio de Natação do CNAC - Shigeo Tsukagoshi
DESCRIPTION:Convocatória\nResultados em direto
URL:https://www.aquaclube.net/event/xl-torneio-de-natacao-do-cnac-shigeo-tsukagoshi/
LOCATION:COPC
END:VEVENT
BEGIN:VEVENT
DTSTART;TZID=Europe/Lisbon:20260425T090000
DTEND;TZID=Europe/Lisbon:20260425T123000
DTSTAMP:20260420T203900
CREATED:20260410T220138Z
LAST-MODIFIED:20260410T220138Z
UID:4474-1777107600-1777120200@www.aquaclube.net
SUMMARY:XVI Torneio de cadetes - Rota da Chanfana
DESCRIPTION:Convocatória\nResultados em direto
URL:https://www.aquaclube.net/event/xvi-torneio-de-cadetes-rota-da-chanfana/
LOCATION:Miranda do Corvo\, Portugal
END:VEVENT
BEGIN:VEVENT
DTSTART;TZID=Europe/Lisbon:20260425T153000
DTEND;TZID=Europe/Lisbon:20260425T200000
DTSTAMP:20260420T203900
CREATED:20260410T215950Z
LAST-MODIFIED:20260413T212834Z
UID:4471-1777131000-1777147200@www.aquaclube.net
SUMMARY:V Torneio CPN – Cidade de Ermesinde
DESCRIPTION:Convocatória\nResultados em direto
URL:https://www.aquaclube.net/event/v-torneio-cpn-cidade-de-ermesinde/
LOCATION:Ermesinde
END:VEVENT
END:VCALENDAR