BEGIN:VCALENDAR
VERSION:2.0
PRODID:-//Condeixa Aqua Clube - ECPv6.15.13//NONSGML v1.0//EN
CALSCALE:GREGORIAN
METHOD:PUBLISH
X-WR-CALNAME:Condeixa Aqua Clube
X-ORIGINAL-URL:https://www.aquaclube.net
X-WR-CALDESC:Eventos para Condeixa Aqua Clube
REFRESH-INTERVAL;VALUE=DURATION:PT1H
X-Robots-Tag:noindex
X-PUBLISHED-TTL:PT1H
BEGIN:VTIMEZONE
TZID:Europe/Lisbon
BEGIN:DAYLIGHT
TZOFFSETFROM:+0000
TZOFFSETTO:+0100
TZNAME:WEST
DTSTART:20240331T010000
END:DAYLIGHT
BEGIN:STANDARD
TZOFFSETFROM:+0100
TZOFFSETTO:+0000
TZNAME:WET
DTSTART:20241027T010000
END:STANDARD
BEGIN:DAYLIGHT
TZOFFSETFROM:+0000
TZOFFSETTO:+0100
TZNAME:WEST
DTSTART:20250330T010000
END:DAYLIGHT
BEGIN:STANDARD
TZOFFSETFROM:+0100
TZOFFSETTO:+0000
TZNAME:WET
DTSTART:20251026T010000
END:STANDARD
BEGIN:DAYLIGHT
TZOFFSETFROM:+0000
TZOFFSETTO:+0100
TZNAME:WEST
DTSTART:20260329T010000
END:DAYLIGHT
BEGIN:STANDARD
TZOFFSETFROM:+0100
TZOFFSETTO:+0000
TZNAME:WET
DTSTART:20261025T010000
END:STANDARD
END:VTIMEZONE
BEGIN:VEVENT
DTSTART;TZID=Europe/Lisbon:20250308T080000
DTEND;TZID=Europe/Lisbon:20250309T190000
DTSTAMP:20260423T191423
CREATED:20250227T231554Z
LAST-MODIFIED:20250227T231754Z
UID:3652-1741420800-1741546800@www.aquaclube.net
SUMMARY:Torneio Interdistrital de infantis
DESCRIPTION:CONVOCATÓRIA\nRESULTADOS EM DIRETO
URL:https://www.aquaclube.net/event/torneio-interdistrital-de-infantis/
LOCATION:Leiria\, Leiria\, Portugal
END:VEVENT
BEGIN:VEVENT
DTSTART;TZID=Europe/Lisbon:20250316T080000
DTEND;TZID=Europe/Lisbon:20250316T133000
DTSTAMP:20260423T191423
CREATED:20250227T233258Z
LAST-MODIFIED:20250313T232014Z
UID:3657-1742112000-1742131800@www.aquaclube.net
SUMMARY:Toregri 2\, jornada 2
DESCRIPTION:CONVOCATÓRIA\nRESULTADOS EM DIRETO
URL:https://www.aquaclube.net/event/toregri-2-jornada-2/
LOCATION:Lousã\, Portugal
ORGANIZER;CN="ANC":MAILTO:geral@ancoimbra.pt
END:VEVENT
BEGIN:VEVENT
DTSTART;TZID=Europe/Lisbon:20250321T080000
DTEND;TZID=Europe/Lisbon:20250323T190000
DTSTAMP:20260423T191423
CREATED:20250313T233558Z
LAST-MODIFIED:20250318T111454Z
UID:3673-1742544000-1742756400@www.aquaclube.net
SUMMARY:Interdistrital de juvenis\, juniores\, seniores e absolutos
DESCRIPTION:CONVOCATÓRIA\nRESULTADOS EM DIRETO
URL:https://www.aquaclube.net/event/interdistrital-de-juvenis-juniores-seniores-e-absolutos/
LOCATION:COPC
END:VEVENT
BEGIN:VEVENT
DTSTART;TZID=Europe/Lisbon:20250321T140000
DTEND;TZID=Europe/Lisbon:20250323T183000
DTSTAMP:20260423T191423
CREATED:20250313T232443Z
LAST-MODIFIED:20250313T232443Z
UID:3667-1742565600-1742754600@www.aquaclube.net
SUMMARY:Zonal infantis
DESCRIPTION:CONVOCATÓRIA\nRESULTADOS EM DIRETO
URL:https://www.aquaclube.net/event/zonal-infantis/
LOCATION:Viseu\, Viseu
END:VEVENT
END:VCALENDAR